Workbook

Sheet سجل الهدر
A1: سجل الهدر اليومي
A2: سجّل كل هدر لحظة حدوثه، فالفرق المجهول في الجرد غالبًا هدر غير مسجّل
A3: التاريخ | B3: الصنف / المكوّن | C3: الكمية | D3: الوحدة | E3: السبب | F3: تكلفة الوحدة | G3: التكلفة | H3: المسجِّل
G4: =IF(C4*F4=0,"",C4*F4)
G5: =IF(C5*F5=0,"",C5*F5)
G6: =IF(C6*F6=0,"",C6*F6)
G7: =IF(C7*F7=0,"",C7*F7)
G8: =IF(C8*F8=0,"",C8*F8)
G9: =IF(C9*F9=0,"",C9*F9)
G10: =IF(C10*F10=0,"",C10*F10)
G11: =IF(C11*F11=0,"",C11*F11)
G12: =IF(C12*F12=0,"",C12*F12)
G13: =IF(C13*F13=0,"",C13*F13)
G14: =IF(C14*F14=0,"",C14*F14)
G15: =IF(C15*F15=0,"",C15*F15)
... G53: =IF(C53*F53=0,"",C53*F53)

Sheet ملخص حسب السبب
A1: ملخص الهدر حسب السبب
A3: السبب | B3: التكلفة | C3: النسبة %
A4: تحضير | B4: =SUMIF('سجل الهدر'!E4:E53,A4,'سجل الهدر'!G4:G53) | C4: =IF($B$11=0,"",B4/$B$11)
A5: تلف | B5: =SUMIF('سجل الهدر'!E4:E53,A5,'سجل الهدر'!G4:G53) | C5: =IF($B$11=0,"",B5/$B$11)
A6: انتهاء صلاحية | B6: =SUMIF('سجل الهدر'!E4:E53,A6,'سجل الهدر'!G4:G53) | C6: =IF($B$11=0,"",B6/$B$11)
A7: رد من العميل | B7: =SUMIF('سجل الهدر'!E4:E53,A7,'سجل الهدر'!G4:G53) | C7: =IF($B$11=0,"",B7/$B$11)
A8: ضيافة | B8: =SUMIF('سجل الهدر'!E4:E53,A8,'سجل الهدر'!G4:G53) | C8: =IF($B$11=0,"",B8/$B$11)
A9: تجربة | B9: =SUMIF('سجل الهدر'!E4:E53,A9,'سجل الهدر'!G4:G53) | C9: =IF($B$11=0,"",B9/$B$11)
A10: أخرى | B10: =SUMIF('سجل الهدر'!E4:E53,A10,'سجل الهدر'!G4:G53) | C10: =IF($B$11=0,"",B10/$B$11)
A11: الإجمالي | B11: =SUM(B4:B10)
